BEGIN:VCALENDAR
VERSION:2.0
PRODID:-//Shire of Collie - ECPv6.15.20//NONSGML v1.0//EN
CALSCALE:GREGORIAN
METHOD:PUBLISH
X-WR-CALNAME:Shire of Collie
X-ORIGINAL-URL:https://www.collie.wa.gov.au
X-WR-CALDESC:Events for Shire of Collie
REFRESH-INTERVAL;VALUE=DURATION:PT1H
X-Robots-Tag:noindex
X-PUBLISHED-TTL:PT1H
BEGIN:VTIMEZONE
TZID:Australia/Perth
BEGIN:STANDARD
TZOFFSETFROM:+0800
TZOFFSETTO:+0800
TZNAME:AWST
DTSTART:20240101T000000
END:STANDARD
END:VTIMEZONE
BEGIN:VEVENT
DTSTART;TZID=Australia/Perth:20250913T080000
DTEND;TZID=Australia/Perth:20251022T170000
DTSTAMP:20260417T220405
CREATED:20250901T051151Z
LAST-MODIFIED:20250901T051151Z
UID:9516-1757750400-1761152400@www.collie.wa.gov.au
SUMMARY:Collie Creates - An Arts Festival
DESCRIPTION:A vibrant new chapter begins in the heart of Western Australia’s southwest with the launch of Collie Creates\, a ten-day celebration of colour\, creativity\, and community connection. \nFormerly known as the Griffin Arts Festival and later Festiv Arty\, the reimagined Collie Creates continues the proud tradition of community-driven arts events in Collie\, but with a bold new identity. This year’s festival promises something for everyone – from hands-on creative workshops and exhibitions to the ever-popular Market Day. \nEvent Details:\n📍 Collie\, Western Australia\n📅 Art Markets – 13 September\nArt Exhibition – 13 September – 18 October\nWorkshops – 14 September – 25 September\n🌐 More info: colliecreates.com
URL:https://www.collie.wa.gov.au/event/collie-creates-an-arts-festival/
CATEGORIES:General Audience
ATTACH;FMTTYPE=image/jpeg:https://www.collie.wa.gov.au/wp-content/uploads/2025/09/collie-creates.jpg
END:VEVENT
BEGIN:VEVENT
DTSTART;TZID=Australia/Perth:20251010T183000
DTEND;TZID=Australia/Perth:20251010T213000
DTSTAMP:20260417T220405
CREATED:20250926T014632Z
LAST-MODIFIED:20250926T014632Z
UID:9618-1760121000-1760131800@www.collie.wa.gov.au
SUMMARY:Board Game Club
DESCRIPTION:Join a group of board game enthusiasts for a casual and fun evening of games! \nBring your own favourite game to play with the group\, or try something new from our collection. \nOpen to anyone aged 15 or over with an interesting in tabletop gaming. BYO snacks and drinks. \nLocated in the library’s meeting room. Registrations are not required.
URL:https://www.collie.wa.gov.au/event/board-game-club-2/
LOCATION:Collie Public Library\, 82 Wittenoom Street\, Collie\, WA\, 6225\, Australia
CATEGORIES:For The Grown Ups,Free,Young Adults
ATTACH;FMTTYPE=image/jpeg:https://www.collie.wa.gov.au/wp-content/uploads/2025/09/board-game-club-header.jpg
ORGANIZER;CN="Collie Public Library":MAILTO:library@collie.wa.gov.au
END:VEVENT
END:VCALENDAR