BEGIN:VCALENDAR
VERSION:2.0
PRODID:-//Shire of Collie - ECPv6.15.20//NONSGML v1.0//EN
CALSCALE:GREGORIAN
METHOD:PUBLISH
X-WR-CALNAME:Shire of Collie
X-ORIGINAL-URL:https://www.collie.wa.gov.au
X-WR-CALDESC:Events for Shire of Collie
REFRESH-INTERVAL;VALUE=DURATION:PT1H
X-Robots-Tag:noindex
X-PUBLISHED-TTL:PT1H
BEGIN:VTIMEZONE
TZID:Australia/Perth
BEGIN:STANDARD
TZOFFSETFROM:+0800
TZOFFSETTO:+0800
TZNAME:AWST
DTSTART:20210101T000000
END:STANDARD
END:VTIMEZONE
BEGIN:VEVENT
DTSTART;TZID=Australia/Perth:20220105T193000
DTEND;TZID=Australia/Perth:20220105T213000
DTSTAMP:20260424T050902
CREATED:20211117T032353Z
LAST-MODIFIED:20211117T032353Z
UID:4767-1641411000-1641418200@www.collie.wa.gov.au
SUMMARY:Sunset Movie Series - The Goonies
DESCRIPTION:Ah\, the 80s. What a time – big hair\, neon tights and movies destined to be cult classics. The Goonies is one of those\, so join us for a nostalgic screening of this 1980s hit\, sponsored by White Building & Shire of Collie.
URL:https://www.collie.wa.gov.au/event/sunset-movie-series-the-goonies/
LOCATION:Central Park\, Collie\, Forrest Street\, Collie\, 6225\, Australia
CATEGORIES:For The Grown Ups,For The Kids,Free,General Audience
ATTACH;FMTTYPE=image/png:https://www.collie.wa.gov.au/wp-content/uploads/2021/11/Goonies-Jan-5.png
ORGANIZER;CN="Shire of Collie":MAILTO:colshire@collie.wa.gov.au
END:VEVENT
BEGIN:VEVENT
DTSTART;TZID=Australia/Perth:20220108T193000
DTEND;TZID=Australia/Perth:20220108T213000
DTSTAMP:20260424T050902
CREATED:20211117T032804Z
LAST-MODIFIED:20211117T032804Z
UID:4771-1641670200-1641677400@www.collie.wa.gov.au
SUMMARY:Sunset Movie Series - Penguin Bloom
DESCRIPTION:Penguin Bloom – the true Australian story of an unlikely hero. Based on the book of the same name\, this film follows a family that has been hit by tragedy and their journey of healing – helped along by a little magpie named Penguin. \nThis FREE film screening is sponsored by Shire of Collie and Young & Young Lawyers.
URL:https://www.collie.wa.gov.au/event/sunset-movie-series-penguin-bloom/
LOCATION:Central Park\, Collie\, Forrest Street\, Collie\, 6225\, Australia
CATEGORIES:For The Grown Ups,For The Kids,Free,General Audience
ATTACH;FMTTYPE=image/png:https://www.collie.wa.gov.au/wp-content/uploads/2021/11/Penguin-Bloom-Jan-8.png
ORGANIZER;CN="Shire of Collie":MAILTO:colshire@collie.wa.gov.au
END:VEVENT
BEGIN:VEVENT
DTSTART;TZID=Australia/Perth:20220112T193000
DTEND;TZID=Australia/Perth:20220112T213000
DTSTAMP:20260424T050902
CREATED:20211117T033359Z
LAST-MODIFIED:20211117T033359Z
UID:4774-1642015800-1642023000@www.collie.wa.gov.au
SUMMARY:Sunset Movie Series - Wonder Park
DESCRIPTION:June\, an optimistic\, imaginative girl\, discovers an incredible amusement park called Wonderland hidden in the woods. \nStrap yourself in for a fun(park) time with this animated family movie! Brought to you by the Shire of Collie and Unity Bank.
URL:https://www.collie.wa.gov.au/event/sunset-movie-series-wonder-park/
LOCATION:Central Park\, Collie\, Forrest Street\, Collie\, 6225\, Australia
CATEGORIES:Children's Activities,For The Kids,For The Littlies,Free,General Audience
ATTACH;FMTTYPE=image/png:https://www.collie.wa.gov.au/wp-content/uploads/2021/11/Wonder-Park-Jan-12.png
ORGANIZER;CN="Shire of Collie":MAILTO:colshire@collie.wa.gov.au
END:VEVENT
BEGIN:VEVENT
DTSTART;TZID=Australia/Perth:20220119T193000
DTEND;TZID=Australia/Perth:20220119T213000
DTSTAMP:20260424T050902
CREATED:20211117T034209Z
LAST-MODIFIED:20211117T034209Z
UID:4781-1642620600-1642627800@www.collie.wa.gov.au
SUMMARY:Sunset Movie Series - Dreambuilders
DESCRIPTION:Minna\, a young girl\, misuses her newfound ability to create and control other people’s dreams to teach her bothersome stepsister a lesson. \nThis family friendly film is brought to you by Shire of Collie and Bendigo Bank.
URL:https://www.collie.wa.gov.au/event/sunset-movie-series-dreambuilders/
LOCATION:Central Park\, Collie\, Forrest Street\, Collie\, 6225\, Australia
CATEGORIES:Children's Activities,For The Kids,For The Littlies,Free
ATTACH;FMTTYPE=image/png:https://www.collie.wa.gov.au/wp-content/uploads/2021/11/Dream-Builders-Jan-19.png
ORGANIZER;CN="Shire of Collie":MAILTO:colshire@collie.wa.gov.au
END:VEVENT
BEGIN:VEVENT
DTSTART;TZID=Australia/Perth:20220122T193000
DTEND;TZID=Australia/Perth:20220122T213000
DTSTAMP:20260424T050902
CREATED:20211117T034614Z
LAST-MODIFIED:20211117T034614Z
UID:4784-1642879800-1642887000@www.collie.wa.gov.au
SUMMARY:Sunset Movie Series - Mary Poppins Returns
DESCRIPTION:A few decades after her original visit\, Mary Poppins\, the magical nanny\, returns to help the Banks siblings and Michael’s children through a difficult time in their lives. \nA modern update to an absolute classic! Bring the family on down to the park for this FREE movie screening brought to you by Unity Bank and Shire of Collie.
URL:https://www.collie.wa.gov.au/event/sunset-movie-series-mary-poppins-returns/
LOCATION:Central Park\, Collie\, Forrest Street\, Collie\, 6225\, Australia
CATEGORIES:Children's Activities,For The Kids,For The Littlies,Free,General Audience
ATTACH;FMTTYPE=image/png:https://www.collie.wa.gov.au/wp-content/uploads/2021/11/Mary-Poppins-Jan-22.png
ORGANIZER;CN="Shire of Collie":MAILTO:colshire@collie.wa.gov.au
END:VEVENT
BEGIN:VEVENT
DTSTART;TZID=Australia/Perth:20220129T193000
DTEND;TZID=Australia/Perth:20220129T213000
DTSTAMP:20260424T050902
CREATED:20211117T041246Z
LAST-MODIFIED:20211117T041246Z
UID:4790-1643484600-1643491800@www.collie.wa.gov.au
SUMMARY:Sunset Movie Series - Dolittle
DESCRIPTION:A physician who can talk to animals embarks on an adventure to find a legendary island with a young apprentice and a crew of strange pets. \nThe finale of our Sunset Movie Series! Make sure you bring the whole family down for this FREE family event sponsored by Shire of Collie and Collie Machine Shop.
URL:https://www.collie.wa.gov.au/event/sunset-movie-series-dolittle/
LOCATION:Central Park\, Collie\, Forrest Street\, Collie\, 6225\, Australia
CATEGORIES:Children's Activities,For The Kids,For The Littlies,Free,General Audience
ATTACH;FMTTYPE=image/png:https://www.collie.wa.gov.au/wp-content/uploads/2021/11/Dolittle-Jan-29.png
ORGANIZER;CN="Shire of Collie":MAILTO:colshire@collie.wa.gov.au
END:VEVENT
END:VCALENDAR