BEGIN:VCALENDAR
VERSION:2.0
PRODID:-//Shire of Collie - ECPv6.15.20//NONSGML v1.0//EN
CALSCALE:GREGORIAN
METHOD:PUBLISH
X-ORIGINAL-URL:https://www.collie.wa.gov.au
X-WR-CALDESC:Events for Shire of Collie
REFRESH-INTERVAL;VALUE=DURATION:PT1H
X-Robots-Tag:noindex
X-PUBLISHED-TTL:PT1H
BEGIN:VTIMEZONE
TZID:Australia/Perth
BEGIN:STANDARD
TZOFFSETFROM:+0800
TZOFFSETTO:+0800
TZNAME:AWST
DTSTART:20210101T000000
END:STANDARD
END:VTIMEZONE
BEGIN:VEVENT
DTSTART;TZID=Australia/Perth:20221211T163000
DTEND;TZID=Australia/Perth:20221211T210000
DTSTAMP:20260423T124247
CREATED:20221018T053438Z
LAST-MODIFIED:20221130T030049Z
UID:5547-1670776200-1670792400@www.collie.wa.gov.au
SUMMARY:Carols in the Park
DESCRIPTION:Featuring: \nCarol singing and items from local schools\nKids craft activity – Face painting\nYouthcare Sausage Sizzle \nFollowed by a Christmas Movie – “The Star” – Approximate start time 7.30pm\nSponsored by Shire of Collie\, Kaya Collie\, Crank n Cycles and Bendigo Community Bank Collie \nDecember 11th 2022\nActivities start 4.30pm\nCarols start 6.00pm
URL:https://www.collie.wa.gov.au/event/carols-in-the-park/
CATEGORIES:Children's Activities,Free,General Audience
ATTACH;FMTTYPE=image/png:https://www.collie.wa.gov.au/wp-content/uploads/2022/10/Copy-of-Copy-of-Collie-Carols-2022-e1669777069354.png
END:VEVENT
END:VCALENDAR