BEGIN:VCALENDAR
VERSION:2.0
PRODID:-//Shire of Collie - ECPv6.15.20//NONSGML v1.0//EN
CALSCALE:GREGORIAN
METHOD:PUBLISH
X-ORIGINAL-URL:https://www.collie.wa.gov.au
X-WR-CALDESC:Events for Shire of Collie
REFRESH-INTERVAL;VALUE=DURATION:PT1H
X-Robots-Tag:noindex
X-PUBLISHED-TTL:PT1H
BEGIN:VTIMEZONE
TZID:Australia/Perth
BEGIN:STANDARD
TZOFFSETFROM:+0800
TZOFFSETTO:+0800
TZNAME:AWST
DTSTART:20220101T000000
END:STANDARD
END:VTIMEZONE
BEGIN:VEVENT
DTSTART;TZID=Australia/Perth:20230413T100000
DTEND;TZID=Australia/Perth:20230413T140000
DTSTAMP:20260423T063839
CREATED:20230406T080544Z
LAST-MODIFIED:20230406T080544Z
UID:7021-1681380000-1681394400@www.collie.wa.gov.au
SUMMARY:Youth Week Festival
DESCRIPTION:FREE YOUTH WEEK EVENT! \nParkour\nEscape room\nDriving simulator\nBBQ and more! \n 
URL:https://www.collie.wa.gov.au/event/youth-week-festival/
LOCATION:Central Park\, Collie\, Forrest Street\, Collie\, 6225\, Australia
CATEGORIES:Free,Young Adults
ATTACH;FMTTYPE=image/png:https://www.collie.wa.gov.au/wp-content/uploads/2023/04/Flyer-2023-Final-e1680767127293.png
ORGANIZER;CN="Shire of Collie":MAILTO:colshire@collie.wa.gov.au
END:VEVENT
BEGIN:VEVENT
DTSTART;TZID=Australia/Perth:20230418T100000
DTEND;TZID=Australia/Perth:20230418T110000
DTSTAMP:20260423T063839
CREATED:20230322T033518Z
LAST-MODIFIED:20230322T033518Z
UID:6971-1681812000-1681815600@www.collie.wa.gov.au
SUMMARY:The Magic of Books with Vanessa Adelaide
DESCRIPTION:Join author Vanessa for this special meet the author story time\, and help your child develop a love of books\, story writing\, drawing and imaginary play! \n\nVanessa Adelaide has a background of using the arts to teach children the importance of social confidence and emotional control. Vanessa has written seven books with supportive themes in the areas of rejection\, hope\, loss\, fun\, love and kindness.\n\n\n\nThe first four books were a part of the ‘Forgotten Toy Series’ including My lonely dolly\, The blue crayon\, The old teddy and The red truck. Connor the Kangaroo was written next along with Nana loves Dress ups and A cat called Harvey. Each book is very different but can be used to support difficult conversations to support children in a confusing world.
URL:https://www.collie.wa.gov.au/event/the-magic-of-books-with-vanessa-adelaide/
LOCATION:Collie Public Library\, 82 Wittenoom Street\, Collie\, WA\, 6225\, Australia
CATEGORIES:Children's Activities,For The Kids,For The Littlies,Free
ATTACH;FMTTYPE=image/png:https://www.collie.wa.gov.au/wp-content/uploads/2023/03/Lonely-doll.png
ORGANIZER;CN="Collie Public Library":MAILTO:library@collie.wa.gov.au
END:VEVENT
END:VCALENDAR