BEGIN:VCALENDAR
VERSION:2.0
PRODID:-//Shire of Collie - ECPv6.15.20//NONSGML v1.0//EN
CALSCALE:GREGORIAN
METHOD:PUBLISH
X-WR-CALNAME:Shire of Collie
X-ORIGINAL-URL:https://www.collie.wa.gov.au
X-WR-CALDESC:Events for Shire of Collie
REFRESH-INTERVAL;VALUE=DURATION:PT1H
X-Robots-Tag:noindex
X-PUBLISHED-TTL:PT1H
BEGIN:VTIMEZONE
TZID:Australia/Perth
BEGIN:STANDARD
TZOFFSETFROM:+0800
TZOFFSETTO:+0800
TZNAME:AWST
DTSTART:20220101T000000
END:STANDARD
END:VTIMEZONE
BEGIN:VEVENT
DTSTART;TZID=Australia/Perth:20230516T180000
DTEND;TZID=Australia/Perth:20230516T193000
DTSTAMP:20260423T051033
CREATED:20230508T075206Z
LAST-MODIFIED:20230508T075206Z
UID:7114-1684260000-1684265400@www.collie.wa.gov.au
SUMMARY:Pyjama Story Time @ Collie Library
DESCRIPTION:Collie Public Library’s annual pyjama story time is here! Put on your comfiest pyjamas\, grab your favourite teddy bear or fuzzy friend\, and come on down to the library for a whole lot of fun!
URL:https://www.collie.wa.gov.au/event/pyjama-story-time-collie-library/
LOCATION:Collie Public Library\, 82 Wittenoom Street\, Collie\, WA\, 6225\, Australia
CATEGORIES:Children's Activities,For The Kids,For The Littlies,Free
ATTACH;FMTTYPE=image/png:https://www.collie.wa.gov.au/wp-content/uploads/2023/05/2023-Pyjama-Story-Time-fb-cover.png
ORGANIZER;CN="Collie Public Library":MAILTO:library@collie.wa.gov.au
END:VEVENT
END:VCALENDAR