BEGIN:VCALENDAR
VERSION:2.0
PRODID:-//Shire of Collie - ECPv6.15.20//NONSGML v1.0//EN
CALSCALE:GREGORIAN
METHOD:PUBLISH
X-WR-CALNAME:Shire of Collie
X-ORIGINAL-URL:https://www.collie.wa.gov.au
X-WR-CALDESC:Events for Shire of Collie
REFRESH-INTERVAL;VALUE=DURATION:PT1H
X-Robots-Tag:noindex
X-PUBLISHED-TTL:PT1H
BEGIN:VTIMEZONE
TZID:Australia/Perth
BEGIN:STANDARD
TZOFFSETFROM:+0800
TZOFFSETTO:+0800
TZNAME:AWST
DTSTART:20220101T000000
END:STANDARD
END:VTIMEZONE
BEGIN:VEVENT
DTSTART;TZID=Australia/Perth:20231209T150000
DTEND;TZID=Australia/Perth:20231209T220000
DTSTAMP:20260422T191030
CREATED:20231106T065251Z
LAST-MODIFIED:20231106T065251Z
UID:7770-1702134000-1702159200@www.collie.wa.gov.au
SUMMARY:Collie Christmas Pageant
DESCRIPTION:  \n3pm – 5pm: Kate Hindle’s School of Music Showcase \n4pm – 8pm: Free family fun and activities \n\nFun Zone – bouncy castle\, inflatable obstacle course\, gladiator duel\, bucking bull\, face painting\nFood trucks\nMarkets\nVisit from Santa\n\n6pm: Collie Christmas Pageant \n7pm – 10pm: Music in the park
URL:https://www.collie.wa.gov.au/event/collie-christmas-pageant/
LOCATION:Central Park\, Collie\, Forrest Street\, Collie\, 6225\, Australia
CATEGORIES:Children's Activities,For The Grown Ups,For The Kids,For The Littlies,Free,General Audience,Young Adults
ATTACH;FMTTYPE=image/jpeg:https://www.collie.wa.gov.au/wp-content/uploads/2023/11/381781009_122108491238046035_3797345260706488160_n.jpg
END:VEVENT
END:VCALENDAR