BEGIN:VCALENDAR
VERSION:2.0
PRODID:-//Shire of Collie - ECPv6.15.20//NONSGML v1.0//EN
CALSCALE:GREGORIAN
METHOD:PUBLISH
X-WR-CALNAME:Shire of Collie
X-ORIGINAL-URL:https://www.collie.wa.gov.au
X-WR-CALDESC:Events for Shire of Collie
REFRESH-INTERVAL;VALUE=DURATION:PT1H
X-Robots-Tag:noindex
X-PUBLISHED-TTL:PT1H
BEGIN:VTIMEZONE
TZID:Australia/Perth
BEGIN:STANDARD
TZOFFSETFROM:+0800
TZOFFSETTO:+0800
TZNAME:AWST
DTSTART:20230101T000000
END:STANDARD
END:VTIMEZONE
BEGIN:VEVENT
DTSTART;TZID=Australia/Perth:20240303T103000
DTEND;TZID=Australia/Perth:20240303T160000
DTSTAMP:20260420T160324
CREATED:20240124T062512Z
LAST-MODIFIED:20240124T062512Z
UID:8029-1709461800-1709481600@www.collie.wa.gov.au
SUMMARY:Collie Labour Day Festival Street Markets & Live Music
DESCRIPTION:Forrest Street in central Collie will be packed with street markets\, food vans\, Chinese dragon shows and more. \n  \nThere will also plenty of activities to keep the kids entertained in Central Park including Old McDonald’s farm\, bouncy castles\, giant games\, a climbing wall\, face painting\, kids entertainment and a whole lot more. \n  \nAnd from 10.30am onward the Bendigo Bank Music Shell stage will host live music performances.
URL:https://www.collie.wa.gov.au/event/collie-labour-day-festival-street-markets-live-music/
LOCATION:Central Park\, Collie\, Forrest Street\, Collie\, 6225\, Australia
CATEGORIES:Children's Activities,For The Grown Ups,For The Kids,For The Littlies,Free,General Audience,Young Adults
ATTACH;FMTTYPE=image/png:https://www.collie.wa.gov.au/wp-content/uploads/2024/01/Collie-Labour-Day-Festival-side-no-dates-x-2048x1145-1.png
END:VEVENT
END:VCALENDAR