BEGIN:VCALENDAR
VERSION:2.0
PRODID:-//Shire of Collie - ECPv6.15.20//NONSGML v1.0//EN
CALSCALE:GREGORIAN
METHOD:PUBLISH
X-WR-CALNAME:Shire of Collie
X-ORIGINAL-URL:https://www.collie.wa.gov.au
X-WR-CALDESC:Events for Shire of Collie
REFRESH-INTERVAL;VALUE=DURATION:PT1H
X-Robots-Tag:noindex
X-PUBLISHED-TTL:PT1H
BEGIN:VTIMEZONE
TZID:Australia/Perth
BEGIN:STANDARD
TZOFFSETFROM:+0800
TZOFFSETTO:+0800
TZNAME:AWST
DTSTART:20230101T000000
END:STANDARD
END:VTIMEZONE
BEGIN:VEVENT
DTSTART;TZID=Australia/Perth:20241208T193000
DTEND;TZID=Australia/Perth:20241208T213000
DTSTAMP:20260420T021133
CREATED:20241107T031604Z
LAST-MODIFIED:20241107T031604Z
UID:8873-1733686200-1733693400@www.collie.wa.gov.au
SUMMARY:Summer Movie Series - Journey To Bethlehem
DESCRIPTION:THE COLLIE SUMMER MOVIE SERIES IS BACK!\n\nGet ready for 15 FREE family movie nights this December and January\, right here in Central Park\, Collie!  Thanks to the amazing support of our local businesses\, we’re bringing the community together for an unforgettable summer of outdoor cinema under the stars.\n\n\n Journey to Bethlehem\n\n When? Sunday 8 December (following Carols in the Park)\n Where? Central Park\, Collie\n Cost? FREE courtesy of Pak-IT Computers – just bring your family\, friends\, rugs\, and chairs!\n\n\n\nPerfect for an easy night out with family and friends. Bring some snacks\, settle in\, and enjoy a great lineup of movies. Let’s make this a summer to remember in Collie! \n\n\nSee you there!
URL:https://www.collie.wa.gov.au/event/summer-movie-series-journey-to-bethlehem/
LOCATION:Central Park\, Collie\, Forrest Street\, Collie\, 6225\, Australia
CATEGORIES:Children's Activities,Free,General Audience
ATTACH;FMTTYPE=image/png:https://www.collie.wa.gov.au/wp-content/uploads/2024/11/bethlehem.png
ORGANIZER;CN="Shire of Collie":MAILTO:colshire@collie.wa.gov.au
END:VEVENT
BEGIN:VEVENT
DTSTART;TZID=Australia/Perth:20241211T193000
DTEND;TZID=Australia/Perth:20241211T213000
DTSTAMP:20260420T021133
CREATED:20241107T031811Z
LAST-MODIFIED:20241107T031811Z
UID:8878-1733945400-1733952600@www.collie.wa.gov.au
SUMMARY:Summer Movie Series - The Little Rascals
DESCRIPTION:THE COLLIE SUMMER MOVIE SERIES IS BACK!\n\nGet ready for 15 FREE family movie nights this December and January\, right here in Central Park\, Collie!  Thanks to the amazing support of our local businesses\, we’re bringing the community together for an unforgettable summer of outdoor cinema under the stars.\n\n\n The Little Rascals \n\n When? Wednesday 11 December\n Where? Central Park\, Collie\n Cost? FREE courtesy of Unity Bank – just bring your family\, friends\, rugs\, and chairs!\n\n\n\nPerfect for an easy night out with family and friends. Bring some snacks\, settle in\, and enjoy a great lineup of movies. Let’s make this a summer to remember in Collie! \n\n\nSee you there!
URL:https://www.collie.wa.gov.au/event/summer-movie-series-the-little-rascals/
LOCATION:Central Park\, Collie\, Forrest Street\, Collie\, 6225\, Australia
CATEGORIES:Children's Activities,Free,General Audience
ATTACH;FMTTYPE=image/png:https://www.collie.wa.gov.au/wp-content/uploads/2024/11/Movies-1.png
ORGANIZER;CN="Shire of Collie":MAILTO:colshire@collie.wa.gov.au
END:VEVENT
BEGIN:VEVENT
DTSTART;TZID=Australia/Perth:20241214T193000
DTEND;TZID=Australia/Perth:20241214T213000
DTSTAMP:20260420T021133
CREATED:20241107T032420Z
LAST-MODIFIED:20241107T032420Z
UID:8881-1734204600-1734211800@www.collie.wa.gov.au
SUMMARY:Summer Movie Series - Cool Runnings
DESCRIPTION:THE COLLIE SUMMER MOVIE SERIES IS BACK!\n\nGet ready for 15 FREE family movie nights this December and January\, right here in Central Park\, Collie!  Thanks to the amazing support of our local businesses\, we’re bringing the community together for an unforgettable summer of outdoor cinema under the stars.\n\n\n Cool Runnings\n\n When? Saturday 14 December\n Where? Central Park\, Collie\n Cost? FREE courtesy of Jodie Hanns – just bring your family\, friends\, rugs\, and chairs!\n\n\n\nPerfect for an easy night out with family and friends. Bring some snacks\, settle in\, and enjoy a great lineup of movies. Let’s make this a summer to remember in Collie! \n\n\nSee you there!
URL:https://www.collie.wa.gov.au/event/summer-movie-series-cool-runnings/
LOCATION:Central Park\, Collie\, Forrest Street\, Collie\, 6225\, Australia
CATEGORIES:Children's Activities,For The Grown Ups,Free,General Audience
ATTACH;FMTTYPE=image/png:https://www.collie.wa.gov.au/wp-content/uploads/2024/11/Cool-runnings.png
ORGANIZER;CN="Shire of Collie":MAILTO:colshire@collie.wa.gov.au
END:VEVENT
BEGIN:VEVENT
DTSTART;TZID=Australia/Perth:20241218T193000
DTEND;TZID=Australia/Perth:20241218T213000
DTSTAMP:20260420T021133
CREATED:20241107T032557Z
LAST-MODIFIED:20241107T032557Z
UID:8884-1734550200-1734557400@www.collie.wa.gov.au
SUMMARY:Summer Movie Series - Love Actually
DESCRIPTION:THE COLLIE SUMMER MOVIE SERIES IS BACK!\n\nGet ready for 15 FREE family movie nights this December and January\, right here in Central Park\, Collie!  Thanks to the amazing support of our local businesses\, we’re bringing the community together for an unforgettable summer of outdoor cinema under the stars.\n\n\n Love Actually\n\n When? Wednesday 18 December\n Where? Central Park\, Collie\n Cost? FREE courtesy of Blue Leaf Initiative– just bring your family\, friends\, rugs\, and chairs!\n\n\n\nPerfect for an easy night out with family and friends. Bring some snacks\, settle in\, and enjoy a great lineup of movies. Let’s make this a summer to remember in Collie! \n\n\nSee you there!
URL:https://www.collie.wa.gov.au/event/summer-movie-series-love-actually/
CATEGORIES:Children's Activities,For The Grown Ups,Free,General Audience
ATTACH;FMTTYPE=image/png:https://www.collie.wa.gov.au/wp-content/uploads/2024/11/Movies2.png
ORGANIZER;CN="Shire of Collie":MAILTO:colshire@collie.wa.gov.au
END:VEVENT
BEGIN:VEVENT
DTSTART;TZID=Australia/Perth:20241221T193000
DTEND;TZID=Australia/Perth:20241221T213000
DTSTAMP:20260420T021133
CREATED:20241107T033836Z
LAST-MODIFIED:20241107T033836Z
UID:8887-1734809400-1734816600@www.collie.wa.gov.au
SUMMARY:Summer Movie Series - Elf
DESCRIPTION:THE COLLIE SUMMER MOVIE SERIES IS BACK!\n\nGet ready for 15 FREE family movie nights this December and January\, right here in Central Park\, Collie!  Thanks to the amazing support of our local businesses\, we’re bringing the community together for an unforgettable summer of outdoor cinema under the stars.\n\n\n Elf\n\n When? Saturday 21 December (after the Christmas pageant)\n Where? Central Park\, Collie\n Cost? FREE courtesy of Bendigo Community Bank – just bring your family\, friends\, rugs\, and chairs!\n\n\n\nPerfect for an easy night out with family and friends. Bring some snacks\, settle in\, and enjoy a great lineup of movies. Let’s make this a summer to remember in Collie! \n\n\nSee you there!
URL:https://www.collie.wa.gov.au/event/summer-movie-series-elf/
LOCATION:Central Park\, Collie\, Forrest Street\, Collie\, 6225\, Australia
CATEGORIES:Children's Activities,For The Grown Ups,Free,General Audience
ATTACH;FMTTYPE=image/png:https://www.collie.wa.gov.au/wp-content/uploads/2024/11/Elf.png
ORGANIZER;CN="Shire of Collie":MAILTO:colshire@collie.wa.gov.au
END:VEVENT
END:VCALENDAR