BEGIN:VCALENDAR
VERSION:2.0
PRODID:-//Shire of Collie - ECPv6.15.20//NONSGML v1.0//EN
CALSCALE:GREGORIAN
METHOD:PUBLISH
X-ORIGINAL-URL:https://www.collie.wa.gov.au
X-WR-CALDESC:Events for Shire of Collie
REFRESH-INTERVAL;VALUE=DURATION:PT1H
X-Robots-Tag:noindex
X-PUBLISHED-TTL:PT1H
BEGIN:VTIMEZONE
TZID:Australia/Perth
BEGIN:STANDARD
TZOFFSETFROM:+0800
TZOFFSETTO:+0800
TZNAME:AWST
DTSTART:20200101T000000
END:STANDARD
END:VTIMEZONE
BEGIN:VEVENT
DTSTART;TZID=Australia/Perth:20211222T193000
DTEND;TZID=Australia/Perth:20211222T213000
DTSTAMP:20260417T232419
CREATED:20211025T024659Z
LAST-MODIFIED:20211117T031706Z
UID:4723-1640201400-1640208600@www.collie.wa.gov.au
SUMMARY:Sunset Movie Series - Arthur Christmas
DESCRIPTION:Christmas is almost here! Celebrate with us in Central Park at this FREE screening of Arthur Christmas.\nBig thanks to Betta Home Living Collie for sponsoring this film!
URL:https://www.collie.wa.gov.au/event/sunset-movie-series-arthur-christmas/
LOCATION:Central Park\, Collie\, Forrest Street\, Collie\, 6225\, Australia
CATEGORIES:Children's Activities,For The Kids,Free,General Audience
ATTACH;FMTTYPE=image/png:https://www.collie.wa.gov.au/wp-content/uploads/2021/10/Christmas-Arthur.png
ORGANIZER;CN="Shire of Collie":MAILTO:colshire@collie.wa.gov.au
END:VEVENT
END:VCALENDAR