BEGIN:VCALENDAR
VERSION:2.0
PRODID:-//Shire of Collie - ECPv6.15.20//NONSGML v1.0//EN
CALSCALE:GREGORIAN
METHOD:PUBLISH
X-WR-CALNAME:Shire of Collie
X-ORIGINAL-URL:https://www.collie.wa.gov.au
X-WR-CALDESC:Events for Shire of Collie
REFRESH-INTERVAL;VALUE=DURATION:PT1H
X-Robots-Tag:noindex
X-PUBLISHED-TTL:PT1H
BEGIN:VTIMEZONE
TZID:Australia/Perth
BEGIN:STANDARD
TZOFFSETFROM:+0800
TZOFFSETTO:+0800
TZNAME:AWST
DTSTART:20220101T000000
END:STANDARD
END:VTIMEZONE
BEGIN:VEVENT
DTSTART;TZID=Australia/Perth:20231006T100000
DTEND;TZID=Australia/Perth:20231006T120000
DTSTAMP:20260422T233226
CREATED:20230913T020206Z
LAST-MODIFIED:20230913T020206Z
UID:7626-1696586400-1696593600@www.collie.wa.gov.au
SUMMARY:Teddy Bears Picnic
DESCRIPTION:There’s a bear somewhere\, sitting on a chair – and she’s reading a book! Come and take a look! \nJoin Mrs Potts and furry friends for our annual Teddy Bears’ Picnic. Bring your drink bottle and your favourite toy friend to enjoy a spring morning in the park! \n*Suitable for children aged up to 8 \n*Morning tea provided \nTickets are not required to attend the teddy bears picnic. All are welcome to attend on the day! Registrations are for organisation purposes only.
URL:https://www.collie.wa.gov.au/event/teddy-bears-picnic-3/
LOCATION:Central Park\, Collie\, Forrest Street\, Collie\, 6225\, Australia
CATEGORIES:Children's Activities,Free
ATTACH;FMTTYPE=image/png:https://www.collie.wa.gov.au/wp-content/uploads/2023/09/Teddy-bear-picnic-event-cover.png
ORGANIZER;CN="Collie Public Library":MAILTO:library@collie.wa.gov.au
END:VEVENT
END:VCALENDAR