BEGIN:VCALENDAR
VERSION:2.0
PRODID:-//Shire of Collie - ECPv6.15.20//NONSGML v1.0//EN
CALSCALE:GREGORIAN
METHOD:PUBLISH
X-WR-CALNAME:Shire of Collie
X-ORIGINAL-URL:https://www.collie.wa.gov.au
X-WR-CALDESC:Events for Shire of Collie
REFRESH-INTERVAL;VALUE=DURATION:PT1H
X-Robots-Tag:noindex
X-PUBLISHED-TTL:PT1H
BEGIN:VTIMEZONE
TZID:Australia/Perth
BEGIN:STANDARD
TZOFFSETFROM:+0800
TZOFFSETTO:+0800
TZNAME:AWST
DTSTART:20230101T000000
END:STANDARD
END:VTIMEZONE
BEGIN:VEVENT
DTSTART;TZID=Australia/Perth:20241026T180000
DTEND;TZID=Australia/Perth:20241026T203000
DTSTAMP:20260417T030408
CREATED:20240912T070216Z
LAST-MODIFIED:20240912T070243Z
UID:8724-1729965600-1729974600@www.collie.wa.gov.au
SUMMARY:Bat Walk with Conservation Council of Western Australia
DESCRIPTION:Did you know Collie is home to several different bat species\, all of them micro? That means they’re tiny – and adorable! Join Kelly from the Conservation Council of WA’s bat program to learn all about our local species\, and see if we can spot them as they come out to hunt for their dinner. \n\nMeet us at the Karak Trail head near the cemetery\nWear closed in\, comfortable walking shoes or boots and dress appropriately\nThis is an all ages event. Children must be accompanied by an adult.\nBYO water bottle and snacks\nLimited places. Bookings essential\n\n  \nThis event is presented as part of Collie Public Library’s Our Native Environment Education Series\, and supported by South32.  \n 
URL:https://www.collie.wa.gov.au/event/bat-walk-with-conservation-council-of-western-australia/
LOCATION:Karak Trail\, Coalfields Highway\, Allanson\, WA\, 6225\, Australia
CATEGORIES:Children's Activities,General Audience
ATTACH;FMTTYPE=image/webp:https://www.collie.wa.gov.au/wp-content/uploads/2024/09/wattle-bat.webp
ORGANIZER;CN="Collie Public Library":MAILTO:library@collie.wa.gov.au
END:VEVENT
END:VCALENDAR