BEGIN:VCALENDAR
VERSION:2.0
PRODID:-//Shire of Collie - ECPv6.15.20//NONSGML v1.0//EN
CALSCALE:GREGORIAN
METHOD:PUBLISH
X-WR-CALNAME:Shire of Collie
X-ORIGINAL-URL:https://www.collie.wa.gov.au
X-WR-CALDESC:Events for Shire of Collie
REFRESH-INTERVAL;VALUE=DURATION:PT1H
X-Robots-Tag:noindex
X-PUBLISHED-TTL:PT1H
BEGIN:VTIMEZONE
TZID:Australia/Perth
BEGIN:STANDARD
TZOFFSETFROM:+0800
TZOFFSETTO:+0800
TZNAME:AWST
DTSTART:20230101T000000
END:STANDARD
END:VTIMEZONE
BEGIN:VEVENT
DTSTART;TZID=Australia/Perth:20240109T100000
DTEND;TZID=Australia/Perth:20240109T110000
DTSTAMP:20260417T171432
CREATED:20231129T071830Z
LAST-MODIFIED:20231129T071830Z
UID:7853-1704794400-1704798000@www.collie.wa.gov.au
SUMMARY:Supersonic Science at Collie Public Library
DESCRIPTION:Join us for some seriously spectacular science and entertainment with SuperSonic Science\, as they perform booming\, banging\, bubbling hands-on experiments\, such as: \n* CO2 Rockets\n* Bubbleology\n* Superabsorbent Polymer (Supersonic Snow)\n* Gravity-defying soda pop\n* Non-Newtonian Fluids (Supersonic Sime)\n* Elephants toothpaste\n* Vortex Cannons \nExperiments on the day may differ. \n___________________________________________________________________________ \n*Children must be aged 5-13 years to attend this event. \n* Spaces are limited and bookings are essential. \n* Supersonic Science my incorporate the use of magnets/magnetism/electrostatic devices as part of their events. These objects may have an adverse effect on individuals fitted with medical/electrical devices such as pacemakers\, etc. Please inform the staff of any worries you might have. \nBy registering for this activity\, you consent to Collie Public Library using and publishing your name/s and any photographs and/or videos taken at this event (which may contain your/your child’s image) in any of its publications and materials (including written\, electronic or multimedia materials) for distribution on The Shire of Collie website\, or for educational\, promotional or reporting purposes.
URL:https://www.collie.wa.gov.au/event/supersonic-science-at-collie-public-library/
LOCATION:Collie Public Library\, 82 Wittenoom Street\, Collie\, WA\, 6225\, Australia
CATEGORIES:Children's Activities,For The Kids,Free
ATTACH;FMTTYPE=image/png:https://www.collie.wa.gov.au/wp-content/uploads/2023/11/supersonic-science-header.png
ORGANIZER;CN="Collie Public Library":MAILTO:library@collie.wa.gov.au
END:VEVENT
BEGIN:VEVENT
DTSTART;TZID=Australia/Perth:20240110T100000
DTEND;TZID=Australia/Perth:20240110T190000
DTSTAMP:20260417T171432
CREATED:20231221T085502Z
LAST-MODIFIED:20231221T085701Z
UID:7945-1704880800-1704913200@www.collie.wa.gov.au
SUMMARY:YACWA School Holiday Youth Day
DESCRIPTION:Join us for the YACWA School Holiday Youth Day on January 10\, 2024!  Come and try something new\, or learn some more skills from the experts.  Workshops are for ages 10 and above.  Spectators welcome! \nMorning 10am-12pm:  Get active and learn the art of Disc Golf!  Join our engaging workshop (discs provided) – perfect for all skill levels.  Lions Park\, Crampton Street\, Collie. \nAfternoon 2pm – 6pm:  Challenge your friends to an exhilarating 3×3 Basketball tournament!  Show off your skills on the court\, learn and have a go. Finish up with some pizza and games.  All skill levels welcome.  Central Park\, Forrest Street\, Collie. \nEvening:  Relax and unwind with some live music followed by a Movie in the Park “The Flash”!  Bring your blankets and chairs for a fantastic evening under the stars.
URL:https://www.collie.wa.gov.au/event/yacwa-school-holiday-youth-day/
CATEGORIES:Free,Young Adults
ATTACH;FMTTYPE=image/png:https://www.collie.wa.gov.au/wp-content/uploads/2023/12/YACWA.png
ORGANIZER;CN="Shire of Collie":MAILTO:colshire@collie.wa.gov.au
END:VEVENT
BEGIN:VEVENT
DTSTART;VALUE=DATE:20240126
DTEND;VALUE=DATE:20240127
DTSTAMP:20260417T171432
CREATED:20240109T083430Z
LAST-MODIFIED:20240111T021040Z
UID:7973-1706227200-1706313599@www.collie.wa.gov.au
SUMMARY:Australia Day 2024
DESCRIPTION:Australia Day Celebrations this year include Free Breakfast\, live music and craft activities\, Free pool entry and pool inflatables\, Free ice-creams (at the pool party) and movie in the park\, thanks to the Australia Day Council\, the Shire of Collie and Betta Electrical Collie. \n7.30am – Awards ceremony followed by FREE breakfast in Central Park \n12.00pm – FREE entry to pool party at Collie Mineworkers Memorial Swimming Pool until 6.30pm \n7.30pm – Summer movie series: The Castle in Central Park.  Bring your own chair/blanket \n 
URL:https://www.collie.wa.gov.au/event/australia-day-2024/
LOCATION:Central Park\, Collie\, Forrest Street\, Collie\, 6225\, Australia
CATEGORIES:Free,General Audience
ORGANIZER;CN="Shire of Collie":MAILTO:colshire@collie.wa.gov.au
END:VEVENT
END:VCALENDAR