BEGIN:VCALENDAR
VERSION:2.0
PRODID:-//Shire of Collie - ECPv6.15.20//NONSGML v1.0//EN
CALSCALE:GREGORIAN
METHOD:PUBLISH
X-WR-CALNAME:Shire of Collie
X-ORIGINAL-URL:https://www.collie.wa.gov.au
X-WR-CALDESC:Events for Shire of Collie
REFRESH-INTERVAL;VALUE=DURATION:PT1H
X-Robots-Tag:noindex
X-PUBLISHED-TTL:PT1H
BEGIN:VTIMEZONE
TZID:Australia/Perth
BEGIN:STANDARD
TZOFFSETFROM:+0800
TZOFFSETTO:+0800
TZNAME:AWST
DTSTART:20230101T000000
END:STANDARD
END:VTIMEZONE
BEGIN:VEVENT
DTSTART;TZID=Australia/Perth:20240206T093000
DTEND;TZID=Australia/Perth:20240206T160000
DTSTAMP:20260424T023337
CREATED:20240124T055133Z
LAST-MODIFIED:20240124T055133Z
UID:8019-1707211800-1707235200@www.collie.wa.gov.au
SUMMARY:Government Service Van Visits Collie
DESCRIPTION:Visit the Mobile Service Centre to find out about Australian Government payments and services for rural families\, older Australians\, students\, job seekers\, people with disability\,\ncarers\, farmers and self-employed people. \nInformation about Department of Veterans’ Affairs programs and support services for veterans and their families will also be available. \nStaff can provide you with information and support. They can also help you create a myGov account. myGov is a simple and secure way to access government services online.
URL:https://www.collie.wa.gov.au/event/government-service-van-visits-collie/
LOCATION:PCYC Car Park\, Forrest Street\, Collie\, WA\, 6225\, Australia
CATEGORIES:For The Grown Ups,Free
ATTACH;FMTTYPE=image/png:https://www.collie.wa.gov.au/wp-content/uploads/2024/01/Mobile-service-centre-2.png
END:VEVENT
END:VCALENDAR