BEGIN:VCALENDAR
VERSION:2.0
PRODID:-//Shire of Collie - ECPv6.15.20//NONSGML v1.0//EN
CALSCALE:GREGORIAN
METHOD:PUBLISH
X-WR-CALNAME:Shire of Collie
X-ORIGINAL-URL:https://www.collie.wa.gov.au
X-WR-CALDESC:Events for Shire of Collie
REFRESH-INTERVAL;VALUE=DURATION:PT1H
X-Robots-Tag:noindex
X-PUBLISHED-TTL:PT1H
BEGIN:VTIMEZONE
TZID:Australia/Perth
BEGIN:STANDARD
TZOFFSETFROM:+0800
TZOFFSETTO:+0800
TZNAME:AWST
DTSTART:20230101T000000
END:STANDARD
END:VTIMEZONE
BEGIN:VEVENT
DTSTART;VALUE=DATE:20240126
DTEND;VALUE=DATE:20240127
DTSTAMP:20260424T054143
CREATED:20240109T083430Z
LAST-MODIFIED:20240111T021040Z
UID:7973-1706227200-1706313599@www.collie.wa.gov.au
SUMMARY:Australia Day 2024
DESCRIPTION:Australia Day Celebrations this year include Free Breakfast\, live music and craft activities\, Free pool entry and pool inflatables\, Free ice-creams (at the pool party) and movie in the park\, thanks to the Australia Day Council\, the Shire of Collie and Betta Electrical Collie. \n7.30am – Awards ceremony followed by FREE breakfast in Central Park \n12.00pm – FREE entry to pool party at Collie Mineworkers Memorial Swimming Pool until 6.30pm \n7.30pm – Summer movie series: The Castle in Central Park.  Bring your own chair/blanket \n 
URL:https://www.collie.wa.gov.au/event/australia-day-2024/
LOCATION:Central Park\, Collie\, Forrest Street\, Collie\, 6225\, Australia
CATEGORIES:Free,General Audience
ORGANIZER;CN="Shire of Collie":MAILTO:colshire@collie.wa.gov.au
END:VEVENT
END:VCALENDAR