BEGIN:VCALENDAR
VERSION:2.0
PRODID:-//Shire of Collie - ECPv6.15.20//NONSGML v1.0//EN
CALSCALE:GREGORIAN
METHOD:PUBLISH
X-WR-CALNAME:Shire of Collie
X-ORIGINAL-URL:https://www.collie.wa.gov.au
X-WR-CALDESC:Events for Shire of Collie
REFRESH-INTERVAL;VALUE=DURATION:PT1H
X-Robots-Tag:noindex
X-PUBLISHED-TTL:PT1H
BEGIN:VTIMEZONE
TZID:Australia/Perth
BEGIN:STANDARD
TZOFFSETFROM:+0800
TZOFFSETTO:+0800
TZNAME:AWST
DTSTART:20230101T000000
END:STANDARD
END:VTIMEZONE
BEGIN:VEVENT
DTSTART;TZID=Australia/Perth:20240302T173000
DTEND;TZID=Australia/Perth:20240302T210000
DTSTAMP:20260424T023424
CREATED:20240222T033621Z
LAST-MODIFIED:20240222T033621Z
UID:8109-1709400600-1709413200@www.collie.wa.gov.au
SUMMARY:Collie Labour Day Concert and Fireworks
DESCRIPTION:Collie Eagles Labour Day Festival Concert from 5.30pm featuring Brad Hansen & supported by Jimmy Cameron. \nCanteen and Full bar Facilities open from 5pm.
URL:https://www.collie.wa.gov.au/event/collie-labour-day-concert-and-fireworks/
LOCATION:Collie Recreation Grounds
CATEGORIES:Free,General Audience
END:VEVENT
END:VCALENDAR