BEGIN:VCALENDAR
VERSION:2.0
PRODID:-//Shire of Collie - ECPv6.15.20//NONSGML v1.0//EN
CALSCALE:GREGORIAN
METHOD:PUBLISH
X-WR-CALNAME:Shire of Collie
X-ORIGINAL-URL:https://www.collie.wa.gov.au
X-WR-CALDESC:Events for Shire of Collie
REFRESH-INTERVAL;VALUE=DURATION:PT1H
X-Robots-Tag:noindex
X-PUBLISHED-TTL:PT1H
BEGIN:VTIMEZONE
TZID:Australia/Perth
BEGIN:STANDARD
TZOFFSETFROM:+0800
TZOFFSETTO:+0800
TZNAME:AWST
DTSTART:20230101T000000
END:STANDARD
END:VTIMEZONE
BEGIN:VEVENT
DTSTART;TZID=Australia/Perth:20240420T163000
DTEND;TZID=Australia/Perth:20240420T190000
DTSTAMP:20260417T092658
CREATED:20240306T024632Z
LAST-MODIFIED:20240416T235253Z
UID:8164-1713630600-1713639600@www.collie.wa.gov.au
SUMMARY:Church in the Park
DESCRIPTION:Dale Christian College students will be providing music\, activities\, and a free sausage sizzle.
URL:https://www.collie.wa.gov.au/event/church-in-the-park-2/
LOCATION:Central Park\, Collie\, Forrest Street\, Collie\, 6225\, Australia
CATEGORIES:Free,General Audience
ATTACH;FMTTYPE=image/png:https://www.collie.wa.gov.au/wp-content/uploads/2024/03/Church-in-the-Park-2024-Landscape.png
END:VEVENT
END:VCALENDAR