BEGIN:VCALENDAR
VERSION:2.0
PRODID:-//Shire of Collie - ECPv6.15.20//NONSGML v1.0//EN
CALSCALE:GREGORIAN
METHOD:PUBLISH
X-ORIGINAL-URL:https://www.collie.wa.gov.au
X-WR-CALDESC:Events for Shire of Collie
REFRESH-INTERVAL;VALUE=DURATION:PT1H
X-Robots-Tag:noindex
X-PUBLISHED-TTL:PT1H
BEGIN:VTIMEZONE
TZID:Australia/Perth
BEGIN:STANDARD
TZOFFSETFROM:+0800
TZOFFSETTO:+0800
TZNAME:AWST
DTSTART:20240101T000000
END:STANDARD
END:VTIMEZONE
BEGIN:VEVENT
DTSTART;TZID=Australia/Perth:20250913T080000
DTEND;TZID=Australia/Perth:20251022T170000
DTSTAMP:20260421T062441
CREATED:20250901T051151Z
LAST-MODIFIED:20250901T051151Z
UID:9516-1757750400-1761152400@www.collie.wa.gov.au
SUMMARY:Collie Creates - An Arts Festival
DESCRIPTION:A vibrant new chapter begins in the heart of Western Australia’s southwest with the launch of Collie Creates\, a ten-day celebration of colour\, creativity\, and community connection. \nFormerly known as the Griffin Arts Festival and later Festiv Arty\, the reimagined Collie Creates continues the proud tradition of community-driven arts events in Collie\, but with a bold new identity. This year’s festival promises something for everyone – from hands-on creative workshops and exhibitions to the ever-popular Market Day. \nEvent Details:\n📍 Collie\, Western Australia\n📅 Art Markets – 13 September\nArt Exhibition – 13 September – 18 October\nWorkshops – 14 September – 25 September\n🌐 More info: colliecreates.com
URL:https://www.collie.wa.gov.au/event/collie-creates-an-arts-festival/
CATEGORIES:General Audience
ATTACH;FMTTYPE=image/jpeg:https://www.collie.wa.gov.au/wp-content/uploads/2025/09/collie-creates.jpg
END:VEVENT
BEGIN:VEVENT
DTSTART;TZID=Australia/Perth:20250930T080000
DTEND;TZID=Australia/Perth:20251004T120000
DTSTAMP:20260421T062441
CREATED:20250925T064951Z
LAST-MODIFIED:20250925T064951Z
UID:9610-1759219200-1759579200@www.collie.wa.gov.au
SUMMARY:Tiny Art @ Collie Public Library
DESCRIPTION:Looking for a fun and free creative activity for the school holidays? Get involved in the Tiny Art Show by creating your own miniature piece of art! \nChildren aged up to 18 years can visit the library between Tuesday 30 September and Saturday 4 October to create their own piece of art for display in the library. Each piece of art will be entered into our Tiny Art Prize competition. \n\nArt creation is available during the first week of school holidays\, while supplies last\nChildren aged up to 8 years can create a drawing\nChildren aged 8+ can create either a drawing or a small painting\nCompleted art will be displayed\, with voting taking place from Monday 6 October – Friday 10 October\nEach age category will be awarded a People’s Choice Prize and a Judge’s Choice Prize on Friday 10 October\n\n  \nRegistrations not required – walk-in artists welcome!
URL:https://www.collie.wa.gov.au/event/tiny-art-collie-public-library/
LOCATION:Collie Public Library\, 82 Wittenoom Street\, Collie\, WA\, 6225\, Australia
CATEGORIES:Children's Activities,For The Kids,Free,Young Adults
ATTACH;FMTTYPE=image/png:https://www.collie.wa.gov.au/wp-content/uploads/2025/09/Tiny-art-show-header.png
ORGANIZER;CN="Collie Public Library":MAILTO:library@collie.wa.gov.au
END:VEVENT
BEGIN:VEVENT
DTSTART;TZID=Australia/Perth:20251004T100000
DTEND;TZID=Australia/Perth:20251004T113000
DTSTAMP:20260421T062441
CREATED:20250923T003356Z
LAST-MODIFIED:20250923T003523Z
UID:9593-1759572000-1759577400@www.collie.wa.gov.au
SUMMARY:Crime & Nourishment: A Recipe Sharing Club
DESCRIPTION:Have you got a cookbook that you reach for every time you have a special event or need some kitchen inspiration? Do you have a recipe or dish that you’re practically legally obliged to make for every family gathering? We want to hear about it – and better yet\, we want to taste it! \nCome along to our new social club at the library\, Crime & Nourishment\, where we share our favourite recipes and have the opportunity to try something new\, and do a little crime solving! So how does it work? \n\nChoose a recipe from your favourite cookbook / website / blog / family recipe binder (check out our Facebook to see if there’s a theme for this month)\nPerform some kitchen magic and whip up your star dish (if you can – bringing food is not a requirement)\nBring along a copy of your recipe (and a plate of food if sharing) to the library and tell the group about its inspiration or importance to you\nEnjoy some morning tea and solve this month’s murder mystery puzzle!\n\nPlease register your attendance here. 
URL:https://www.collie.wa.gov.au/event/crime-nourishment-a-recipe-sharing-club/
LOCATION:Collie Public Library\, 82 Wittenoom Street\, Collie\, WA\, 6225\, Australia
CATEGORIES:For The Grown Ups,Free
ATTACH;FMTTYPE=image/jpeg:https://www.collie.wa.gov.au/wp-content/uploads/2025/09/Crime-and-Nourishment-web.jpg
ORGANIZER;CN="Collie Public Library":MAILTO:library@collie.wa.gov.au
END:VEVENT
BEGIN:VEVENT
DTSTART;TZID=Australia/Perth:20251010T183000
DTEND;TZID=Australia/Perth:20251010T213000
DTSTAMP:20260421T062441
CREATED:20250926T014632Z
LAST-MODIFIED:20250926T014632Z
UID:9618-1760121000-1760131800@www.collie.wa.gov.au
SUMMARY:Board Game Club
DESCRIPTION:Join a group of board game enthusiasts for a casual and fun evening of games! \nBring your own favourite game to play with the group\, or try something new from our collection. \nOpen to anyone aged 15 or over with an interesting in tabletop gaming. BYO snacks and drinks. \nLocated in the library’s meeting room. Registrations are not required.
URL:https://www.collie.wa.gov.au/event/board-game-club-2/
LOCATION:Collie Public Library\, 82 Wittenoom Street\, Collie\, WA\, 6225\, Australia
CATEGORIES:For The Grown Ups,Free,Young Adults
ATTACH;FMTTYPE=image/jpeg:https://www.collie.wa.gov.au/wp-content/uploads/2025/09/board-game-club-header.jpg
ORGANIZER;CN="Collie Public Library":MAILTO:library@collie.wa.gov.au
END:VEVENT
BEGIN:VEVENT
DTSTART;TZID=Australia/Perth:20251015T090000
DTEND;TZID=Australia/Perth:20251015T094500
DTSTAMP:20260421T062441
CREATED:20250926T015347Z
LAST-MODIFIED:20250926T015347Z
UID:9625-1760518800-1760521500@www.collie.wa.gov.au
SUMMARY:Sing-Along Storytime
DESCRIPTION:Meet other parents and babies for a fun session of singing\, clapping and dancing. Learn songs and action rhymes to nurture your child’s pre-literacy\, communication and language. Settle down to and enjoy a story as special bonding time. Suitable for all children aged 0-4. \nRhyme Time is free to attend\, and registrations are not required.
URL:https://www.collie.wa.gov.au/event/sing-along-storytime-3/
LOCATION:Collie Public Library\, 82 Wittenoom Street\, Collie\, WA\, 6225\, Australia
CATEGORIES:Children's Activities,For The Littlies,Free
ATTACH;FMTTYPE=image/jpeg:https://www.collie.wa.gov.au/wp-content/uploads/2025/09/Storytime-header-web.jpg
ORGANIZER;CN="Collie Public Library":MAILTO:library@collie.wa.gov.au
END:VEVENT
BEGIN:VEVENT
DTSTART;TZID=Australia/Perth:20251018T090000
DTEND;TZID=Australia/Perth:20251018T220000
DTSTAMP:20260421T062441
CREATED:20250926T024800Z
LAST-MODIFIED:20250926T024800Z
UID:9640-1760778000-1760824800@www.collie.wa.gov.au
SUMMARY:2025 Unity Bank Collie Show
DESCRIPTION:A fun day out for the whole family at our rapidly growing agricultural show with live music\, log chops\, equestrian events\, sideshow alley\, market stalls\, food vans\, huge fireworks display and much\, much more!\nHalf priced rides are back again this year with more show rides than 2024!\n\nThis years theme is ‘Sheep and Wool’\nAdults $20Concession $15Kids 14-18 years $15Kids 13 and Under (if accompanied by an adult) FreeCompanion Card Holders Free\n\nGates open to the public 9am – 10pm\n\nEFTPOS available at Bridge Street gate only (Cash out available from the Ag Office)\n\nCash only at the all other gates.\n\nFor enquiries please contact the Secretary directly on 0419939533 or email secretary@collieag.org.au\n\nKeep up to date with all Unity Bank Collie Show announcements leading up to the day on our facebook page and on our website collieag.org.au
URL:https://www.collie.wa.gov.au/event/2025-unity-bank-collie-show/
LOCATION:Wallsend Showgrounds\, Bridge Street\, Collie\, WA\, 6225\, Australia
CATEGORIES:General Audience
ATTACH;FMTTYPE=image/jpeg:https://www.collie.wa.gov.au/wp-content/uploads/2025/09/506035824_1125605786270114_6178166758757085139_n.jpg
END:VEVENT
BEGIN:VEVENT
DTSTART;TZID=Australia/Perth:20251022T093000
DTEND;TZID=Australia/Perth:20251022T100000
DTSTAMP:20260421T062441
CREATED:20250926T022512Z
LAST-MODIFIED:20250926T022512Z
UID:9628-1761125400-1761127200@www.collie.wa.gov.au
SUMMARY:Sing-Along Storytime
DESCRIPTION:Meet other parents and babies for a fun session of singing\, clapping and dancing. Learn songs and action rhymes to nurture your child’s pre-literacy\, communication and language. Settle down to and enjoy a story as special bonding time. Suitable for all children aged 0-4. \nRhyme Time is free to attend\, and registrations are not required.
URL:https://www.collie.wa.gov.au/event/sing-along-storytime-4/
LOCATION:Collie Public Library\, 82 Wittenoom Street\, Collie\, WA\, 6225\, Australia
CATEGORIES:For The Littlies,Free
ATTACH;FMTTYPE=image/jpeg:https://www.collie.wa.gov.au/wp-content/uploads/2025/09/Storytime-header-web.jpg
ORGANIZER;CN="Collie Public Library":MAILTO:library@collie.wa.gov.au
END:VEVENT
BEGIN:VEVENT
DTSTART;TZID=Australia/Perth:20251029T093000
DTEND;TZID=Australia/Perth:20251029T100000
DTSTAMP:20260421T062441
CREATED:20250926T022604Z
LAST-MODIFIED:20250926T022604Z
UID:9630-1761730200-1761732000@www.collie.wa.gov.au
SUMMARY:Sing-Along Storytime
DESCRIPTION:Meet other parents and babies for a fun session of singing\, clapping and dancing. Learn songs and action rhymes to nurture your child’s pre-literacy\, communication and language. Settle down to and enjoy a story as special bonding time. Suitable for all children aged 0-4. \nRhyme Time is free to attend\, and registrations are not required.
URL:https://www.collie.wa.gov.au/event/sing-along-storytime-5/
LOCATION:Collie Public Library\, 82 Wittenoom Street\, Collie\, WA\, 6225\, Australia
CATEGORIES:For The Littlies,Free
ATTACH;FMTTYPE=image/jpeg:https://www.collie.wa.gov.au/wp-content/uploads/2025/09/Storytime-header-web.jpg
ORGANIZER;CN="Collie Public Library":MAILTO:library@collie.wa.gov.au
END:VEVENT
BEGIN:VEVENT
DTSTART;TZID=Australia/Perth:20251030T103000
DTEND;TZID=Australia/Perth:20251030T113000
DTSTAMP:20260421T062441
CREATED:20251030T044933Z
LAST-MODIFIED:20251030T044933Z
UID:9744-1761820200-1761823800@www.collie.wa.gov.au
SUMMARY:Collie Community Remembrance Day Service
DESCRIPTION:
URL:https://www.collie.wa.gov.au/event/collie-community-remembrance-day-service/
LOCATION:Soldiers Park
CATEGORIES:General Audience
ATTACH;FMTTYPE=image/jpeg:https://www.collie.wa.gov.au/wp-content/uploads/2025/10/2025-REMEMBRANCE-DAY.jpg
END:VEVENT
BEGIN:VEVENT
DTSTART;TZID=Australia/Perth:20251030T180000
DTEND;TZID=Australia/Perth:20251030T200000
DTSTAMP:20260421T062441
CREATED:20250925T064622Z
LAST-MODIFIED:20250925T064622Z
UID:9607-1761847200-1761854400@www.collie.wa.gov.au
SUMMARY:Silent Book Club @ The Collie Providore
DESCRIPTION:Silent Book Club is the book club with no assigned reading. Just bring your own book (or e-book\, or audiobook or graphic novel or magazine…) and settle down to enjoy in comfortable silence amongst your fellow readers. \nHow does it work?\nOn arrival say hello to your new reading friends and (if you want to) share a little about what you’re currently reading. Then settle down for silent reading time\, during which we will take a short optional break to snack and chat. \nSilent Book Club is always free to attend and open to all adults. But if you’re really looking to indulge\, our club meetings at the Collie Providore can also include some gourmet nibbles and a drink (tea\, coffee\, soft drink or glass of wine) for just $10 per person\, payable on the evening at the venue. \nDue to limited spacing available at the Providore\, please ensure you register your attendance: https://events.humanitix.com/silent-book-club-collie-public-library-at-collie-providore
URL:https://www.collie.wa.gov.au/event/silent-book-club-the-collie-providore/
LOCATION:The Collie Providore\, 97 Throssell Street\, Collie\, WA\, 6225\, Australia
CATEGORIES:For The Grown Ups
ATTACH;FMTTYPE=image/jpeg:https://www.collie.wa.gov.au/wp-content/uploads/2025/09/Silent-book-club-header.jpg
ORGANIZER;CN="Collie Public Library":MAILTO:library@collie.wa.gov.au
END:VEVENT
END:VCALENDAR